BEGIN:VCALENDAR
VERSION:2.0
METHOD:PUBLISH
X-WR-CALNAME:VFEK |  június 19 2010- június 19 2010
PRODID:-//strange bird labs//Drupal iCal API//EN
BEGIN:VEVENT
DTSTAMP;VALUE=DATE-TIME:20260420T084658Z
DTSTART;VALUE=DATE-TIME:20100604T150000Z
DTEND;VALUE=DATE-TIME:20100702T170000Z
UID:http://portal.vfmk.hu/20100531_1
URL;VALUE=URI:http://portal.vfmk.hu/20100531_1
SUMMARY:Pásztorné Győr Mária kiállítása
DESCRIPTION:<p class=\\"rteleft\\"><span style=\\"font-size\: small\;\\"><span style=\\"font-family\: Verdana\;\\"><strong>A Verseghy Ferenc Megyei K&ouml\;nyvt&aacute\;r &eacute\;s<br />
 Művelőd&eacute\;si Int&eacute\;zet</strong> </span></span></p>
 <p class=\\"rtecenter\\"><span style=\\"font-size\: small\;\\"><span style=\\"font-family\: Verdana\;\\">Tisztelettel megh&iacute\;vja &Ouml\;nt\, csal&aacute\;dj&aacute\;t &eacute\;s bar&aacute\;tait</span></span></p>
 <p class=\\"rtecenter\\"><span style=\\"font-size\: medium\;\\"><strong><span style=\\"font-family\: Verdana\;\\">P&Aacute\;SZTORN&Eacute\; GYŐR M&Aacute\;RIA</span></strong></span><span style=\\"font-size\: small\;\\"><span style=\\"font-family\: Verdana\;\\"><br />
 nyugalmazott tan&iacute\;t&oacute\;nő</span></span></p>
 <p class=\\"rtecenter\\"><strong><span style=\\"font-size\: small\;\\"><span style=\\"font-family\: Verdana\;\\">Miniatűr akvarellek &eacute\;s olajfestm&eacute\;nyek</span></span></strong><span style=\\"font-size\: small\;\\"><span style=\\"font-family\: Verdana\;\\"><br />
 &nbsp\;c&iacute\;mű ki&aacute\;ll&iacute\;t&aacute\;s&aacute\;nak megnyit&oacute\;j&aacute\;ra<br />
 a Műv&eacute\;szeti Szalonban (Kossuth t&eacute\;r 2.)</span></span></p>
 <p class=\\"rtecenter\\"><span style=\\"font-size\: small\;\\"><span style=\\"font-family\: Verdana\;\\">A ki&aacute\;ll&iacute\;t&aacute\;st megnyitja\:<br />
 <strong>Poly&aacute\;k Adrienn</strong> &uacute\;js&aacute\;g&iacute\;r&oacute\;</span></span></p>
 <p class=\\"rtecenter\\"><span style=\\"font-size\: small\;\\"><span style=\\"font-family\: Verdana\;\\">2010. <strong>j&uacute\;nius 4</strong>-&eacute\;n (p&eacute\;ntek) <strong>16.00</strong> &oacute\;rakor</span></span></p>
 <p class=\\"rtecenter\\"><span style=\\"font-size\: small\;\\"><span style=\\"font-family\: Verdana\;\\">A ki&aacute\;ll&iacute\;t&aacute\;s j&uacute\;lius 2-ig tekinthető meg a k&ouml\;nyvt&aacute\;r nyitvatart&aacute\;si idej&eacute\;ben.</span></span></p>
 <p class=\\"rtecenter\\"><span style=\\"font-size\: small\;\\"><span style=\\"font-family\: Verdana\;\\">Mindenkit szeretettel v&aacute\;runk!<br />
 </span></span></p>
END:VEVENT
END:VCALENDAR
